BEGIN:VCALENDAR
VERSION:2.0
PRODID:-//JUST Listening LLC - ECPv6.15.20//NONSGML v1.0//EN
CALSCALE:GREGORIAN
METHOD:PUBLISH
X-ORIGINAL-URL:https://justlistening.net
X-WR-CALDESC:Events for JUST Listening LLC
REFRESH-INTERVAL;VALUE=DURATION:PT1H
X-Robots-Tag:noindex
X-PUBLISHED-TTL:PT1H
BEGIN:VTIMEZONE
TZID:America/New_York
BEGIN:DAYLIGHT
TZOFFSETFROM:-0500
TZOFFSETTO:-0400
TZNAME:EDT
DTSTART:20250309T070000
END:DAYLIGHT
BEGIN:STANDARD
TZOFFSETFROM:-0400
TZOFFSETTO:-0500
TZNAME:EST
DTSTART:20251102T060000
END:STANDARD
BEGIN:DAYLIGHT
TZOFFSETFROM:-0500
TZOFFSETTO:-0400
TZNAME:EDT
DTSTART:20260308T070000
END:DAYLIGHT
BEGIN:STANDARD
TZOFFSETFROM:-0400
TZOFFSETTO:-0500
TZNAME:EST
DTSTART:20261101T060000
END:STANDARD
BEGIN:DAYLIGHT
TZOFFSETFROM:-0500
TZOFFSETTO:-0400
TZNAME:EDT
DTSTART:20270314T070000
END:DAYLIGHT
BEGIN:STANDARD
TZOFFSETFROM:-0400
TZOFFSETTO:-0500
TZNAME:EST
DTSTART:20271107T060000
END:STANDARD
END:VTIMEZONE
BEGIN:VEVENT
DTSTART;TZID=America/New_York:20260506T100000
DTEND;TZID=America/New_York:20260527T113000
DTSTAMP:20260424T094522
CREATED:20260410T143153Z
LAST-MODIFIED:20260410T180006Z
UID:10000138-1778061600-1779881400@justlistening.net
SUMMARY:Transformational Listening Series- 4 Sessions covering the Basics of JUST Listening
DESCRIPTION:This JUST Listening series teaches skills for building relationships grounded in trust\, empathy\, and understanding. Over the course of 4 sessions\, participants learn about common communication challenges\, cultivate awareness of ego-driven behaviors\, and practice skills for listening with intention\, and responding with humility and curiosity. \nOur methodology is grounded in self-reflection and awareness based-systems change. We provide weekly self-reflection activities to encourage self-awareness of personal communication challenges and emphasize the importance of micro-practices-small\, intentional actions that\, when practiced consistently\, lead to transformational change.  \nSessions provide an overview of relevant research on human behavior and neurobiology as well as opportunities to practice listening and communication skills in a caring environment. Participants leave with practical tools for building relationships\, supporting decision-making\, and responding peacefully in the context of conflict. \nThe workshop will be delivered in a series of four 1.5-hour online sessions taking place Wednesdays from 10am-11:30am EST. \nWhat We’ll Cover: \n\nMay 6 – Session 1: What Gets in the Way of Our Listening? : Empathy\, Othering\, & Perception  \n\nThe physiology of empathy & othering\nUnderstanding how our empathy is activated\nThe role of empathy and primal brain responses in our current context \nTools & Micro-practices for reflection rather than reactivity\n\n\n\n\nMay 13 – Session 2:  Listening Filters \n\nOverview of the Listening Filters that distort what we hear\nTools & Contemplative Micro-practices for Overcoming Listening Hurdles\nOpportunities to practice cultivating awareness of filters\n\n\n\n\nMay 20 – Session 3: From Division to Dialogue\n\nResearch about the emotional and psychological aspects connected to beliefs and values\nTools for turning down the temperature in heated conversations and connecting on a deeply human level\, even amidst disagreement.\nTools for engaging perspectives that differ from our own and expressing our own views effectively\, transforming potentially divisive encounters into meaningful exchanges.\n\n\n\n\nMay 27 – Session 4: Responding Wholeheartedly to Others\n\nThe importance of knowing what conversation we are in\nGuidelines for engaging in dialogue\nOpen and Strategic questioning- tools for supporting decision making without imposing our ego
URL:https://justlistening.net/event/4-part-just-listening-skills-building-series-2/
ATTACH;FMTTYPE=image/jpeg:https://justlistening.net/wp-content/uploads/2026/04/AdobeStock_436668495.jpeg
END:VEVENT
END:VCALENDAR